BEGIN:VCALENDAR
VERSION:2.0
CALSCALE:GREGORIAN
PRODID:-//Diputació de Barcelona//DibaCMS//EN
BEGIN:VEVENT
UID:1365
DTSTAMP:20260419T232816
DTSTART:20110220T180000
DTEND:20110220T000000
SUMMARY:Teatre: Casa de Nines - 20/02/2011
LOCATION:
METHOD:PUBLISH
X-WR-CALNAME:ullastrell@ullastrell.cat
X-WR-TIMEZONE:Europe/Madrid
DESCRIPTION:El Grup d'amics del teatre d'Ullastrell (GATU), representarà l'obra de teatre Casa de Nines, d'Ibsen, dirigits per Dídac Garcia, a Gràcia (Barcelona).
 Lloc: Gràcia (Barcelona)Organitzador: GATU
URI:https://www.ullastrell.cat/actualitat/agenda/teatre-casa-de-nines-20022011.html
CLASS:PUBLIC
END:VEVENT
END:VCALENDAR
