BEGIN:VCALENDAR
VERSION:2.0
CALSCALE:GREGORIAN
PRODID:-//Diputació de Barcelona//DibaCMS//EN
BEGIN:VEVENT
UID:1366
DTSTAMP:20260420T040114
DTSTART:20110220T190000
DTEND:20110220T000000
SUMMARY:XXII Mostra de Teatre: "No Som Res"
LOCATION:
METHOD:PUBLISH
X-WR-CALNAME:ullastrell@ullastrell.cat
X-WR-TIMEZONE:Europe/Madrid
DESCRIPTION:Els ex-teatre de Guerrilla ara són el Grup Dosics, i ens presenten un viatge a un enterro en un sol acte.La vida és així. Dos cosins van a l’enterrament del seu avi però, com que tenen pana, han de continuar a peu fins al cementiri. En aquest viatge que tard o d’hora farem tots, com els cosins o com l’avi, descobrirem les relacions, les vivències i les personalitats marcades de cosins, germans, pares, oncles i amics. La vida arrauxada del difunt projecta una ombra allargada que continua determinant el present, el passat i el futur de tota la família. No som res és una road movie teatral carregada d’humor, un viatge cap a l’interior de les vides de dos homes fracassats i una mirada irònica i esperançada sobre el nostre pas per la vida.
 
Tràiler de l'obra: 
No Som Res from Dosics on Vimeo.
 
Fitxa artísitca: Text: Francesc Serés. Assessorament artístic: Hans Richter. Adaptació: Xuriguera i Faixedas. Llum, so, efectes escenogràfics: Cesc Pastor, Dani Tort i Jordi Vilà. Disseny escenografia: Pocaa. Disseny pantalla: Miquel Casals, Ernest Forts. Música: Sanjosex, Dr. Mashirito. Disseny Gràfic: Anna Muntadas, Jordi Callís. Producció: Dosicsproduccions. Producció executiva: Anna Muntadas.Lloc: Sala d'actes del Casal CulturalOrganitzador: GATU
URI:https://www.ullastrell.cat/actualitat/agenda/xxii-mostra-de-teatre-no-som-res.html
CLASS:PUBLIC
END:VEVENT
END:VCALENDAR
