BEGIN:VCALENDAR
VERSION:2.0
CALSCALE:GREGORIAN
PRODID:-//Diputació de Barcelona//DibaCMS//EN
BEGIN:VEVENT
UID:1374
DTSTAMP:20260420T022441
DTSTART:20110406T153000
DTEND:20110406T000000
SUMMARY:La màgia de la il·lustració
LOCATION:
METHOD:PUBLISH
X-WR-CALNAME:ullastrell@ullastrell.cat
X-WR-TIMEZONE:Europe/Madrid
DESCRIPTION:Contes explicats i dibuixats en directe.L'espectacle és una creació de Subi i Anna Obiols, dos artistes que combinen l'escriptura, la narració i la il·lustració. La forma que empren a Contes dibuixats és ben senzilla: explicar un conte de creació pròpia mentre en fan la il·lustració en directe. Fa més de dos anys que aquesta fórmula ha recorregut festivals, escoles, biblioteques, centres cívics... tot adaptant-se als públics als quals s'adreça.Lloc: Sala Actes CasalOrganitzador: Bibliobús La Mola
URI:https://www.ullastrell.cat/actualitat/agenda/la-magia-de-la-illustracio.html
CLASS:PUBLIC
END:VEVENT
END:VCALENDAR
