BEGIN:VCALENDAR
VERSION:2.0
CALSCALE:GREGORIAN
PRODID:-//Diputació de Barcelona//DibaCMS//EN
BEGIN:VEVENT
UID:1375
DTSTAMP:20260420T034434
DTSTART:20110410T190000
DTEND:20110410T000000
SUMMARY:XXII Mostra de Teatre: “Ens trobarem a l'Apartament” 
LOCATION:
METHOD:PUBLISH
X-WR-CALNAME:ullastrell@ullastrell.cat
X-WR-TIMEZONE:Europe/Madrid
DESCRIPTION:Mostra de teatre.
 
 Lloc: Sala Actes Casal Organitzador: GATU
URI:https://www.ullastrell.cat/actualitat/agenda/xxii-mostra-de-teatre-ens-trobarem-a-lapartament-.html
CLASS:PUBLIC
END:VEVENT
END:VCALENDAR
