BEGIN:VCALENDAR
VERSION:2.0
CALSCALE:GREGORIAN
PRODID:-//Diputació de Barcelona//DibaCMS//EN
BEGIN:VEVENT
UID:1376
DTSTAMP:20260420T061140
DTSTART:20110416T160000
DTEND:20110416T000000
SUMMARY:Sortida: "La Passió d'Olesa"
LOCATION:
METHOD:PUBLISH
X-WR-CALNAME:ullastrell@ullastrell.cat
X-WR-TIMEZONE:Europe/Madrid
DESCRIPTION:La història de la Passió de Crist constitueix un dels arguments dramàtics més importants de la cultura occidental.Lloc: Olesa de MontserratOrganitzador: Parròquia - Catequesi
URI:https://www.ullastrell.cat/actualitat/agenda/sortida-la-passio-dolesa.html
CLASS:PUBLIC
END:VEVENT
END:VCALENDAR
