BEGIN:VCALENDAR
VERSION:2.0
CALSCALE:GREGORIAN
PRODID:-//Diputació de Barcelona//DibaCMS//EN
BEGIN:VEVENT
UID:1377
DTSTAMP:20260420T063631
DTSTART:20110429T170000
DTEND:20110429T000000
SUMMARY:Un cafè i un llibre per a la gent gran - 29/04/2011
LOCATION:
METHOD:PUBLISH
X-WR-CALNAME:ullastrell@ullastrell.cat
X-WR-TIMEZONE:Europe/Madrid
DESCRIPTION:La gent gran s'acosta a la biblioteca per bescanviar llibres i fer una petita tertúlia literària.Lloc: Biblioteca J. MassaguéOrganitzador: Biblioteca J. Massagué
URI:https://www.ullastrell.cat/actualitat/agenda/un-cafe-i-un-llibre-per-a-la-gent-gran-29042011.html
CLASS:PUBLIC
END:VEVENT
END:VCALENDAR
