BEGIN:VCALENDAR
VERSION:2.0
CALSCALE:GREGORIAN
PRODID:-//Diputació de Barcelona//DibaCMS//EN
BEGIN:VEVENT
UID:1378
DTSTAMP:20260420T035127
DTSTART:20110508T190000
DTEND:20110508T000000
SUMMARY:Cinema: "Ens veiem demà"
LOCATION:
METHOD:PUBLISH
X-WR-CALNAME:ullastrell@ullastrell.cat
X-WR-TIMEZONE:Europe/Madrid
DESCRIPTION:Projecció de cinema en català. Direcció: Xavier Berraondo.Repartiment: Josep Linuesa, David Selvas, Marc Cartes, Mercè Pons, Jordi Boixaderas, Lluís Soler, Patricia Bargalló.
Sinopsis: Fa temps de Xavi passa per una crisi vital, plantejant-se si s'està tornant boig, fins que coneix a Azuzena, una noia esquizofrènica que li va farà veure les coses i li retornarà les ganes de viure.
Apta per a tots els públics.
Tràiler de la pel·lícula

Ens veiem demà Trailer from Xavier Berraondo on Vimeo.Lloc: Sala Actes CasalOrganitzador: Patronat
URI:https://www.ullastrell.cat/actualitat/agenda/cinema-ens-veiem-dema.html
CLASS:PUBLIC
END:VEVENT
END:VCALENDAR
