BEGIN:VCALENDAR
VERSION:2.0
CALSCALE:GREGORIAN
PRODID:-//Diputació de Barcelona//DibaCMS//EN
BEGIN:VEVENT
UID:1388
DTSTAMP:20260419T183947
DTSTART:20100316T000000
DTEND:20100316T000000
SUMMARY:Sortida Gent Gran - 16/03/2010
LOCATION:
METHOD:PUBLISH
X-WR-CALNAME:ullastrell@ullastrell.cat
X-WR-TIMEZONE:Europe/Madrid
DESCRIPTION:Sortida de la colla de la Gent Gran.Tot un autocar ple d'avis i àvies aniran a esmorzar a Vallirana, tot seguit es dirigiran a visitar l'estadi del R.C.D. Espanyol Cornellà - El Prat, i a la tarda el Laberint d'Horta a Barcelona.Lloc: BarcelonaOrganitzador: Colla de la Gent Gran
URI:https://www.ullastrell.cat/actualitat/agenda/sortida-gent-gran-16032010.html
CLASS:PUBLIC
END:VEVENT
END:VCALENDAR
