BEGIN:VCALENDAR
VERSION:2.0
CALSCALE:GREGORIAN
PRODID:-//Diputació de Barcelona//DibaCMS//EN
BEGIN:VEVENT
UID:1390
DTSTAMP:20260419T150401
DTSTART:20100425T110000
DTEND:20100425T000000
SUMMARY:Conferència sobre ratpenats
LOCATION:
METHOD:PUBLISH
X-WR-CALNAME:ullastrell@ullastrell.cat
X-WR-TIMEZONE:Europe/Madrid
DESCRIPTION:Conferència-taller a càrrec del sr. Carles Flaquer, doctor en biologia per la UAB.
Activitats:

Xerrada: "Ratpenats, uns grans desconeguts" a càrrec del Dr. Carles Flaquer.
Construcció de caixes-refugi per a ratpenats.

 

El doctor Flaquer des de finals dels anys noranta s'ha dedicat a estudiar els ratpenats amb l'objectiu d'evitar la pèrdua de les espècies més amenaçades i conservar els seus hàbitats. Ha realitzat més d'un centenar d'estudis en espais naturals protegits de Catalunya i Espanya. Compte amb més d'una vintena de publicacions científiques i és el president de la Sociedad Española para el Estudio y Conservación de los murciélagos. Actualment centra les seves tasques en coordinar l'Àrea d'Investigació en Quiròpters del Museu de Ciències Naturals de Granollers.Lloc: Sala de conferències del CasalOrganitzador: Ullastrell Natura
URI:https://www.ullastrell.cat/actualitat/agenda/conferencia-sobre-ratpenats.html
CLASS:PUBLIC
END:VEVENT
END:VCALENDAR
