BEGIN:VCALENDAR
VERSION:2.0
CALSCALE:GREGORIAN
PRODID:-//Diputació de Barcelona//DibaCMS//EN
BEGIN:VEVENT
UID:1391
DTSTAMP:20260419T163913
DTSTART:20100417T000000
DTEND:20100417T000000
SUMMARY:Sortida gegantera - 17/04/2010
LOCATION:
METHOD:PUBLISH
X-WR-CALNAME:ullastrell@ullastrell.cat
X-WR-TIMEZONE:Europe/Madrid
DESCRIPTION:Sortida geganteraEls nostres gegants Serralavella i Bacus, aniran de cercavila a la població de Piera.
 Lloc: PieraOrganitzador: Geganters d'Ullastrell
URI:https://www.ullastrell.cat/actualitat/agenda/sortida-gegantera-17042010.html
CLASS:PUBLIC
END:VEVENT
END:VCALENDAR
