BEGIN:VCALENDAR
VERSION:2.0
CALSCALE:GREGORIAN
PRODID:-//Diputació de Barcelona//DibaCMS//EN
BEGIN:VEVENT
UID:1392
DTSTAMP:20260419T164514
DTSTART:20100421T000000
DTEND:20100421T000000
SUMMARY:Sortida a Lleida
LOCATION:
METHOD:PUBLISH
X-WR-CALNAME:ullastrell@ullastrell.cat
X-WR-TIMEZONE:Europe/Madrid
DESCRIPTION:Sortida mensual de la gent granLa Colla de la Gent gran aniran a LLeida a visitar la fàbrica de cervesses Sant Miquel i Mahou i a veure el nou aeroport d'Alguaire, estrenat recentment.
 
 
 
 
 
 
 Lloc: LleidaOrganitzador: Colla de la Gent Gran
URI:https://www.ullastrell.cat/actualitat/agenda/sortida-a-lleida.html
CLASS:PUBLIC
END:VEVENT
END:VCALENDAR
