BEGIN:VCALENDAR
VERSION:2.0
CALSCALE:GREGORIAN
PRODID:-//Diputació de Barcelona//DibaCMS//EN
BEGIN:VEVENT
UID:1393
DTSTAMP:20260419T150433
DTSTART:20100418T190000
DTEND:20100418T000000
SUMMARY:Presentació del llibre "L'olor de l'absència"
LOCATION:
METHOD:PUBLISH
X-WR-CALNAME:ullastrell@ullastrell.cat
X-WR-TIMEZONE:Europe/Madrid
DESCRIPTION:Lectura del llibre "L'olor de l'absància" de Valentí Bigordà Moragas.Aquest diumenge podreu gaudir dels poemes del local Valentí Bigordà Moragas. Un acte en el qual es repassarà la poesia d'en Valentí i es llegiran algunes poesies.Lloc: Sala Actes CasalOrganitzador: Oncolliga
URI:https://www.ullastrell.cat/actualitat/agenda/presentacio-del-llibre-lolor-de-labsencia.html
CLASS:PUBLIC
END:VEVENT
END:VCALENDAR
