BEGIN:VCALENDAR
VERSION:2.0
CALSCALE:GREGORIAN
PRODID:-//Diputació de Barcelona//DibaCMS//EN
BEGIN:VEVENT
UID:1394
DTSTAMP:20260419T150525
DTSTART:20100418T090000
DTEND:20100418T000000
SUMMARY:Lluita contra el càncer
LOCATION:
METHOD:PUBLISH
X-WR-CALNAME:ullastrell@ullastrell.cat
X-WR-TIMEZONE:Europe/Madrid
DESCRIPTION:Durant el matí i davant l'Ajuntament.
 
 
Lloc: Organitzador: Oncolliga
URI:https://www.ullastrell.cat/actualitat/agenda/lluita-contra-el-cancer.html
CLASS:PUBLIC
END:VEVENT
END:VCALENDAR
