BEGIN:VCALENDAR
VERSION:2.0
CALSCALE:GREGORIAN
PRODID:-//Diputació de Barcelona//DibaCMS//EN
BEGIN:VEVENT
UID:1395
DTSTAMP:20260419T143544
DTSTART:20100430T201500
DTEND:20100430T000000
SUMMARY:Xerrada “Empresaris per l’Estat Propi”
LOCATION:
METHOD:PUBLISH
X-WR-CALNAME:ullastrell@ullastrell.cat
X-WR-TIMEZONE:Europe/Madrid
DESCRIPTION: Xerrada molt interessant per empresaris i autònoms, però també atractiu per la gent en general, juntament amb la CCN (Cercle Català de Negocis).Podrem escoltar temes com l'Estudi de les Balances Fiscals, el projecte de redistribució de la renda sense espoli (nòmines, pensions, inversions, impostos, serveis….).
 
No us podeu perdre la xerrada d'Ullastrell també decideix (la coordinadora per la consulta sobre la independència) juntament amb la CCN (Cercle Català de Negocis).
 
Programa d'actes

20:15 - Recepcio
20:30 - Benvinguda

 Sr. Pere Palet, de la Plataforma Ullastrell també decideix!

20:35 - Presentació

 Sr. Antoni Bertran, Responsable de Presentacions del CCN

20:40 - Dèficit Fiscal i Limitacions pel Desenvolupament Català

 Sr. Xavier Olivella, Relacions Institucionals del CCN

21:10 - Avantatges d’un Estat Propi i Full de Ruta

 Sr. Jaume Gómez Bonamusa, Responsable de Comunicació del CCN

21:40 - Torn de Paraules

 Sr. Antoni Bertran, Responsable de Presentacions del CCN

22:00 - Copa de Cava
Lloc: Altell del Casal Cultural i RecreatiuOrganitzador: Ullastrell també decideix
URI:https://www.ullastrell.cat/actualitat/agenda/xerrada-empresaris-per-lestat-propi.html
CLASS:PUBLIC
END:VEVENT
END:VCALENDAR
