BEGIN:VCALENDAR
VERSION:2.0
CALSCALE:GREGORIAN
PRODID:-//Diputació de Barcelona//DibaCMS//EN
BEGIN:VEVENT
UID:1396
DTSTAMP:20260419T144307
DTSTART:20100511T000000
DTEND:20100512T000000
SUMMARY:Sortida a Andorra amb la gent gran
LOCATION:
METHOD:PUBLISH
X-WR-CALNAME:ullastrell@ullastrell.cat
X-WR-TIMEZONE:Europe/Madrid
DESCRIPTION:Aquest mes la gent gran va més forta i s'agafa dos dies per fer una excursió, a Andorra, per descansar i anar de shopping.
 
 Lloc: AndorraOrganitzador: Colla de la Gent Gran
URI:https://www.ullastrell.cat/actualitat/agenda/sortida-a-andorra-amb-la-gent-gran.html
CLASS:PUBLIC
END:VEVENT
END:VCALENDAR
