BEGIN:VCALENDAR
VERSION:2.0
CALSCALE:GREGORIAN
PRODID:-//Diputació de Barcelona//DibaCMS//EN
BEGIN:VEVENT
UID:1399
DTSTAMP:20260419T191703
DTSTART:20100618T213000
DTEND:20100618T000000
SUMMARY:Audiovisual - Presentació del llibre "La Castellassa de Can Torras"
LOCATION:
METHOD:PUBLISH
X-WR-CALNAME:ullastrell@ullastrell.cat
X-WR-TIMEZONE:Europe/Madrid
DESCRIPTION:L'autor Òscar Masò i Garcia ens presentarà el llibre "La Castellassa de Can Torras".
 
 
Lloc: Sala d'actes del Casal CulturalOrganitzador: Grup de Muntanya
URI:https://www.ullastrell.cat/actualitat/agenda/audiovisual-presentacio-del-llibre-la-castellassa-de-can-torras.html
CLASS:PUBLIC
END:VEVENT
END:VCALENDAR
