BEGIN:VCALENDAR
VERSION:2.0
CALSCALE:GREGORIAN
PRODID:-//Diputació de Barcelona//DibaCMS//EN
BEGIN:VEVENT
UID:1400
DTSTAMP:20260419T170432
DTSTART:20100605T210000
DTEND:20100605T000000
SUMMARY:Sopar solidari
LOCATION:
METHOD:PUBLISH
X-WR-CALNAME:ullastrell@ullastrell.cat
X-WR-TIMEZONE:Europe/Madrid
DESCRIPTION:Sopar solidari amb GuatemalaL'entitat " Ullastrell Vida i Pau" celebra el seu III sopar solidari per Guatemala, acte presentat per l'escriptora Asha Miró, que signarà exemplars dels seus dos últims llibres , fi de festa i exhicició de ball de saló per l'escola  de Ball Vallès.
 
Els fons recaptats aniran destinats a la instal.lació d'un fals sostre aïllant a la biblioteca del Centre Eduacttiu de Nuevo Nacimiento de Lancetillo. El projecte està pressupostat en 3.353 euros, i l'any passat se'n van recaptar 1.644.
 
El sopar serà servit pel Restaurant Taiet .Lloc: Pista poliesportivaOrganitzador: Ullastrell Vida i Pau
URI:https://www.ullastrell.cat/actualitat/agenda/sopar-solidari.html
CLASS:PUBLIC
END:VEVENT
END:VCALENDAR
