BEGIN:VCALENDAR
VERSION:2.0
CALSCALE:GREGORIAN
PRODID:-//Diputació de Barcelona//DibaCMS//EN
BEGIN:VEVENT
UID:1401
DTSTAMP:20260419T173956
DTSTART:20100609T080000
DTEND:20100609T000000
SUMMARY:Sortida: La Garrotxa i Pla de l'Estany
LOCATION:
METHOD:PUBLISH
X-WR-CALNAME:ullastrell@ullastrell.cat
X-WR-TIMEZONE:Europe/Madrid
DESCRIPTION:Sortida mensual de la colla de la Gent GranLa colla de la Gent Gran, visitaran el Santuari de la Mare de Déu del Mont, Banyoles i Besalú.
 Lloc: Garrotxa i Pla de l'EstanyOrganitzador: Colla de la Gent Gran
URI:https://www.ullastrell.cat/actualitat/agenda/sortida-la-garrotxa-i-pla-de-lestany.html
CLASS:PUBLIC
END:VEVENT
END:VCALENDAR
