BEGIN:VCALENDAR
VERSION:2.0
CALSCALE:GREGORIAN
PRODID:-//Diputació de Barcelona//DibaCMS//EN
BEGIN:VEVENT
UID:1402
DTSTAMP:20260419T160350
DTSTART:20100620T000000
DTEND:20100620T000000
SUMMARY:Revetlla de Sant Joan - 20/06/2010
LOCATION:
METHOD:PUBLISH
X-WR-CALNAME:ullastrell@ullastrell.cat
X-WR-TIMEZONE:Europe/Madrid
DESCRIPTION:Revetlla de Sant JoanRevetlla de Sant Joan.
 Lloc: Pista poliesportivaOrganitzador: Colla de la Gent Gran
URI:https://www.ullastrell.cat/actualitat/agenda/revetlla-de-sant-joan-20062010.html
CLASS:PUBLIC
END:VEVENT
END:VCALENDAR
