BEGIN:VCALENDAR
VERSION:2.0
CALSCALE:GREGORIAN
PRODID:-//Diputació de Barcelona//DibaCMS//EN
BEGIN:VEVENT
UID:1403
DTSTAMP:20260419T185329
DTSTART:20100606T180000
DTEND:20100606T000000
SUMMARY:Diada del Corpus
LOCATION:
METHOD:PUBLISH
X-WR-CALNAME:ullastrell@ullastrell.cat
X-WR-TIMEZONE:Europe/Madrid
DESCRIPTION:Celebració de l'Eucarístia i processó fins el Turó del RectorOfici solemne de Corpus i seguidament processó fins el Turó del Rector on estarà instal.lada la Capella, breu oració, i benedicció.
 Lloc: Esglèsia de Santa Maria d'UllastrellOrganitzador: Parròquia Santa Maria
URI:https://www.ullastrell.cat/actualitat/agenda/diada-del-corpus.html
CLASS:PUBLIC
END:VEVENT
END:VCALENDAR
