BEGIN:VCALENDAR
VERSION:2.0
CALSCALE:GREGORIAN
PRODID:-//Diputació de Barcelona//DibaCMS//EN
BEGIN:VEVENT
UID:1404
DTSTAMP:20260419T184214
DTSTART:20100703T000000
DTEND:20100703T000000
SUMMARY:Sortida gegantera - 03/07/2010
LOCATION:
METHOD:PUBLISH
X-WR-CALNAME:ullastrell@ullastrell.cat
X-WR-TIMEZONE:Europe/Madrid
DESCRIPTION:Sortida geganteraEls nostres gegants, la Serralavella i en Bacus aniran a passejar per la Pobla de Claramunt.
 Lloc: La Pobla de ClaramuntOrganitzador: Geganters d'Ullastrell
URI:https://www.ullastrell.cat/actualitat/agenda/sortida-gegantera-03072010.html
CLASS:PUBLIC
END:VEVENT
END:VCALENDAR
