BEGIN:VCALENDAR
VERSION:2.0
CALSCALE:GREGORIAN
PRODID:-//Diputació de Barcelona//DibaCMS//EN
BEGIN:VEVENT
UID:1413
DTSTAMP:20260419T190900
DTSTART:20100726T000000
DTEND:20100729T000000
SUMMARY:Colònies d'estiu - Mitjans
LOCATION:
METHOD:PUBLISH
X-WR-CALNAME:ullastrell@ullastrell.cat
X-WR-TIMEZONE:Europe/Madrid
DESCRIPTION:Els mitjans de l'Esplai 100 Bambes marxen 4 dies de colònies al poble de Brunyola.
 Lloc: BrunyolaOrganitzador: Esplai 100 Bambes
URI:https://www.ullastrell.cat/actualitat/agenda/colonies-destiu-mitjans.html
CLASS:PUBLIC
END:VEVENT
END:VCALENDAR
