BEGIN:VCALENDAR
VERSION:2.0
CALSCALE:GREGORIAN
PRODID:-//Diputació de Barcelona//DibaCMS//EN
BEGIN:VEVENT
UID:1414
DTSTAMP:20260419T185218
DTSTART:20100728T000000
DTEND:20100729T000000
SUMMARY:Colònies d'estiu - Petits
LOCATION:
METHOD:PUBLISH
X-WR-CALNAME:ullastrell@ullastrell.cat
X-WR-TIMEZONE:Europe/Madrid
DESCRIPTION:Els petits de l'Esplai 100 Bambes marxen 2 dies de colònies al poble  de Brunyola.
 Lloc: BrunyolaOrganitzador: Esplai 100 Bambes
URI:https://www.ullastrell.cat/actualitat/agenda/colonies-destiu-petits.html
CLASS:PUBLIC
END:VEVENT
END:VCALENDAR
