BEGIN:VCALENDAR
VERSION:2.0
CALSCALE:GREGORIAN
PRODID:-//Diputació de Barcelona//DibaCMS//EN
BEGIN:VEVENT
UID:1415
DTSTAMP:20260419T171413
DTSTART:20100729T220000
DTEND:20100729T000000
SUMMARY:Cicle Concerts d'Estiu
LOCATION:
METHOD:PUBLISH
X-WR-CALNAME:ullastrell@ullastrell.cat
X-WR-TIMEZONE:Europe/Madrid
DESCRIPTION:Cicle de Concerts d'Estiu a l'Església de St. Martí Sorbet de Viladecavalls.
 
 Lloc: ViladecavallsOrganitzador: Coral d'Ullastrell
URI:https://www.ullastrell.cat/actualitat/agenda/cicle-concerts-destiu.html
CLASS:PUBLIC
END:VEVENT
END:VCALENDAR
