BEGIN:VCALENDAR
VERSION:2.0
CALSCALE:GREGORIAN
PRODID:-//Diputació de Barcelona//DibaCMS//EN
BEGIN:VEVENT
UID:1416
DTSTAMP:20260419T190707
DTSTART:20100729T220000
DTEND:20100729T000000
SUMMARY:Cinema a la fresca: A concretar - 29/07/2010
LOCATION:
METHOD:PUBLISH
X-WR-CALNAME:ullastrell@ullastrell.cat
X-WR-TIMEZONE:Europe/Madrid
DESCRIPTION:Cinema a la fresca.
 
 Lloc: Pista PoliespotivaOrganitzador: OJU
URI:https://www.ullastrell.cat/actualitat/agenda/cinema-a-la-fresca-a-concretar-29072010.html
CLASS:PUBLIC
END:VEVENT
END:VCALENDAR
