BEGIN:VCALENDAR
VERSION:2.0
CALSCALE:GREGORIAN
PRODID:-//Diputació de Barcelona//DibaCMS//EN
BEGIN:VEVENT
UID:1417
DTSTAMP:20260419T191113
DTSTART:20100731T000000
DTEND:20100801T000000
SUMMARY:Excursionisme: "Volta pels Pirineus amb vivac"
LOCATION:
METHOD:PUBLISH
X-WR-CALNAME:ullastrell@ullastrell.cat
X-WR-TIMEZONE:Europe/Madrid
DESCRIPTION:El Grup de Muntanya proposa una interessant sortida als Pirineus per fer excursionisme.Lloc: PirineusOrganitzador: Grup de Muntanya
URI:https://www.ullastrell.cat/actualitat/agenda/excursionisme-volta-pels-pirineus-amb-vivac.html
CLASS:PUBLIC
END:VEVENT
END:VCALENDAR
