BEGIN:VCALENDAR
VERSION:2.0
CALSCALE:GREGORIAN
PRODID:-//Diputació de Barcelona//DibaCMS//EN
BEGIN:VEVENT
UID:1418
DTSTAMP:20260419T204019
DTSTART:20100801T200000
DTEND:20100801T000000
SUMMARY:Cinema: A concretar - 01/08/2010
LOCATION:
METHOD:PUBLISH
X-WR-CALNAME:ullastrell@ullastrell.cat
X-WR-TIMEZONE:Europe/Madrid
DESCRIPTION:Cinema.
 Lloc: Sala d'Actes del Casal CulturalOrganitzador: Patronat / L’Ull
URI:https://www.ullastrell.cat/actualitat/agenda/cinema-a-concretar-01082010.html
CLASS:PUBLIC
END:VEVENT
END:VCALENDAR
