BEGIN:VCALENDAR
VERSION:2.0
CALSCALE:GREGORIAN
PRODID:-//Diputació de Barcelona//DibaCMS//EN
BEGIN:VEVENT
UID:1419
DTSTAMP:20260419T234429
DTSTART:20100907T000000
DTEND:20100907T000000
SUMMARY:Inici del curs escolar - 07/09/2010
LOCATION:
METHOD:PUBLISH
X-WR-CALNAME:ullastrell@ullastrell.cat
X-WR-TIMEZONE:Europe/Madrid
DESCRIPTION:Inici del curs escolar 2010-2011.
 Lloc: Escola Serralavella, El CucutOrganitzador: Escola Serralavella, El Cucut
URI:https://www.ullastrell.cat/actualitat/agenda/inici-del-curs-escolar-07092010.html
CLASS:PUBLIC
END:VEVENT
END:VCALENDAR
