BEGIN:VCALENDAR
VERSION:2.0
CALSCALE:GREGORIAN
PRODID:-//Diputació de Barcelona//DibaCMS//EN
BEGIN:VEVENT
UID:1420
DTSTAMP:20260419T202618
DTSTART:20100830T100000
DTEND:20100906T140000
SUMMARY:Casal d'estiu - 30/08/2010
LOCATION:
METHOD:PUBLISH
X-WR-CALNAME:ullastrell@ullastrell.cat
X-WR-TIMEZONE:Europe/Madrid
DESCRIPTION:Casal de setembreCasal de setembre per a nens i nenes, del 30 d'agost al 6 de setembre.
 
 Lloc: Escola SerralavellaOrganitzador: Esplai 100Bambes
URI:https://www.ullastrell.cat/actualitat/agenda/casal-destiu-30082010.html
CLASS:PUBLIC
END:VEVENT
END:VCALENDAR
