BEGIN:VCALENDAR
VERSION:2.0
CALSCALE:GREGORIAN
PRODID:-//Diputació de Barcelona//DibaCMS//EN
BEGIN:VEVENT
UID:1421
DTSTAMP:20260419T233934
DTSTART:20100911T180000
DTEND:20100911T200000
SUMMARY:Festa aniversari: 10 anys Colla Gent Gran
LOCATION:
METHOD:PUBLISH
X-WR-CALNAME:ullastrell@ullastrell.cat
X-WR-TIMEZONE:Europe/Madrid
DESCRIPTION:Celebració dels 10 anys de la Colla de la Gent Gran.
 Lloc: Sala d'Exposicions i Sala D'Actes del CasalOrganitzador: Colla de la Gent Gran
URI:https://www.ullastrell.cat/actualitat/agenda/festa-aniversari-10-anys-colla-gent-gran.html
CLASS:PUBLIC
END:VEVENT
END:VCALENDAR
