BEGIN:VCALENDAR
VERSION:2.0
CALSCALE:GREGORIAN
PRODID:-//Diputació de Barcelona//DibaCMS//EN
BEGIN:VEVENT
UID:1425
DTSTAMP:20260420T005006
DTSTART:20101121T130000
DTEND:20101121T140000
SUMMARY:Missa Gremi Oliaires - 21/11/2010
LOCATION:
METHOD:PUBLISH
X-WR-CALNAME:ullastrell@ullastrell.cat
X-WR-TIMEZONE:Europe/Madrid
DESCRIPTION:Recital de la Coral d'Ullastrell a la missa del Gremi dels Oliaires a la Catedral de Santa Maria del Mar de Barcelona.
 
 Lloc: Santa Maria del Mar (Barcelona)Organitzador: Coral d'Ullastrell
URI:https://www.ullastrell.cat/actualitat/agenda/missa-gremi-oliaires-21112010.html
CLASS:PUBLIC
END:VEVENT
END:VCALENDAR
