BEGIN:VCALENDAR
VERSION:2.0
CALSCALE:GREGORIAN
PRODID:-//Diputació de Barcelona//DibaCMS//EN
BEGIN:VEVENT
UID:1426
DTSTAMP:20260419T202920
DTSTART:20101121T190000
DTEND:20101121T210000
SUMMARY:22a mostra de teatre: "Alicia, Von Boyage"
LOCATION:
METHOD:PUBLISH
X-WR-CALNAME:ullastrell@ullastrell.cat
X-WR-TIMEZONE:Europe/Madrid
DESCRIPTION:Per estrenar la 22a Mostra de Teatre ens visita la Companyia Teatrepart que presenta "Alicia, Von Boyage" d'Emili Corral. És un espectacle poètic amb grans dosis d'humor, inspirat lliurement en la famosa novel·la de Lewis Carroll.
La princesa Alícia ha de posar la primera pedra d'una nova estació de metro, però accidentalment va a parar en un espai subterrani, reflex deformat del món en què ella ha viscut fins ara, que li farà mirar-se'l d'una altra manera.
És una història que es mou entre la realitat (dominada per la inèrcia d'un sistema corrupte i autoritari) i el subconscient (un espai oníric i inquietant, esquitxat sovint per l'absurditat).
 
Intèrprets:
Meritxell Santamaria
Aleix Vallverdú
Gerarg DomènechLloc: Sala d'Actes del Casal Organitzador: G.A.T.U.
URI:https://www.ullastrell.cat/actualitat/agenda/22a-mostra-de-teatre-alicia-von-boyage.html
CLASS:PUBLIC
END:VEVENT
END:VCALENDAR
