BEGIN:VCALENDAR
VERSION:2.0
CALSCALE:GREGORIAN
PRODID:-//Diputació de Barcelona//DibaCMS//EN
BEGIN:VEVENT
UID:1427
DTSTAMP:20260419T221108
DTSTART:20101204T000000
DTEND:20101208T000000
SUMMARY:Intercanvi Coral Ullastrell - La Brenadienne
LOCATION:
METHOD:PUBLISH
X-WR-CALNAME:ullastrell@ullastrell.cat
X-WR-TIMEZONE:Europe/Madrid
DESCRIPTION:La Coral visitarà França en l'intercanvi que estan portant a terme amb la Coral La Brenadienne de Brunoy.Lloc: ParísOrganitzador: Coral d'Ullastrell
URI:https://www.ullastrell.cat/actualitat/agenda/intercanvi-coral-ullastrell-la-brenadienne.html
CLASS:PUBLIC
END:VEVENT
END:VCALENDAR
