BEGIN:VCALENDAR
VERSION:2.0
CALSCALE:GREGORIAN
PRODID:-//Diputació de Barcelona//DibaCMS//EN
BEGIN:VEVENT
UID:1428
DTSTAMP:20260420T063934
DTSTART:20101214T080000
DTEND:20101214T000000
SUMMARY:Sortida Sorpresa
LOCATION:
METHOD:PUBLISH
X-WR-CALNAME:ullastrell@ullastrell.cat
X-WR-TIMEZONE:Europe/Madrid
DESCRIPTION:La Colla de la gent Gran, com cada any faran una sortida sorpresa de pre Nadal.
 
 Lloc: SorpresaOrganitzador: Colla de la Gent Gran
URI:https://www.ullastrell.cat/actualitat/agenda/sortida-sorpresa.html
CLASS:PUBLIC
END:VEVENT
END:VCALENDAR
