BEGIN:VCALENDAR
VERSION:2.0
CALSCALE:GREGORIAN
PRODID:-//Diputació de Barcelona//DibaCMS//EN
BEGIN:VEVENT
UID:1429
DTSTAMP:20260419T232622
DTSTART:20101218T000000
DTEND:20101218T000000
SUMMARY:Dinar de Nadal i Assemblea de Socis - 18/12/2010
LOCATION:
METHOD:PUBLISH
X-WR-CALNAME:ullastrell@ullastrell.cat
X-WR-TIMEZONE:Europe/Madrid
DESCRIPTION:Dinar per celebrar el Nadal amb totes les familiesPer tal de celebrar el Nadal amb totes les famílies dels nens i nenes de l'esplai s'organtiza cada any un dinar, amb activitats varies, i després assemblea general de socis.Lloc: Pista poliesportiva i Sala Actes CasalOrganitzador: Esplai 100Bambes
URI:https://www.ullastrell.cat/actualitat/agenda/dinar-de-nadal-i-assemblea-de-socis-18122010.html
CLASS:PUBLIC
END:VEVENT
END:VCALENDAR
