BEGIN:VCALENDAR
VERSION:2.0
CALSCALE:GREGORIAN
PRODID:-//Diputació de Barcelona//DibaCMS//EN
BEGIN:VEVENT
UID:1430
DTSTAMP:20260420T005228
DTSTART:20101224T000000
DTEND:20101224T000000
SUMMARY:Missa del gall - 24/12/2010
LOCATION:
METHOD:PUBLISH
X-WR-CALNAME:ullastrell@ullastrell.cat
X-WR-TIMEZONE:Europe/Madrid
DESCRIPTION:Tradicional missa del gall, i en finalitzar petita representació del pessebre a càrrec dels nens i nenes de la catequesi.
A la sala de reunions de la parròquia coca i xocolata per tothom.Lloc: Esglèsia de Santa Maria d'UllastrellOrganitzador: Parròquia Santa Maria
URI:https://www.ullastrell.cat/actualitat/agenda/missa-del-gall-24122010.html
CLASS:PUBLIC
END:VEVENT
END:VCALENDAR
