BEGIN:VCALENDAR
VERSION:2.0
CALSCALE:GREGORIAN
PRODID:-//Diputació de Barcelona//DibaCMS//EN
BEGIN:VEVENT
UID:1431
DTSTAMP:20260420T034423
DTSTART:20101211T213000
DTEND:20101211T000000
SUMMARY:Sopar 1r Aniversari 13D - Ullastrell va decidir!
LOCATION:
METHOD:PUBLISH
X-WR-CALNAME:ullastrell@ullastrell.cat
X-WR-TIMEZONE:Europe/Madrid
DESCRIPTION:Aniversari de la consulta històrica a Ullastrell... han passat moltes coses des de llavors i les que passaran!Hi haurà passi de fotografies de la diada, es comptarà amb la participació dels organitzadors que ho van viure en 1ª persona. A més, podràs viure en primera persona el fet de constituïr l'entitat "UTD!-ULLASTRELL TAMBÉ DECIDEIX!". Informació i xerrades de com segueixen les consultes arreu de Catalunya i de com s'està reorganitzant la Coordinadora de Consultes.Inscripcions: consultapopularullastrell@josoc.cat o al 646.27.43.26 (Pere) Preu: 10 €Lloc: Altell del Casal Cultural i RecreatiuOrganitzador: ULLASTRELL TAMBÉ DECIDEIX!
URI:https://www.ullastrell.cat/actualitat/agenda/sopar-1r-aniversari-13d-ullastrell-va-decidir.html
CLASS:PUBLIC
END:VEVENT
END:VCALENDAR
