BEGIN:VCALENDAR
VERSION:2.0
CALSCALE:GREGORIAN
PRODID:-//Diputació de Barcelona//DibaCMS//EN
BEGIN:VEVENT
UID:1433
DTSTAMP:20260420T005147
DTSTART:20110115T000000
DTEND:20110115T000000
SUMMARY:Tallers infantils
LOCATION:
METHOD:PUBLISH
X-WR-CALNAME:ullastrell@ullastrell.cat
X-WR-TIMEZONE:Europe/Madrid
DESCRIPTION:Tallers infantils.Lloc: Esplai 100 BambesOrganitzador: Esplai 100 Bambes
URI:https://www.ullastrell.cat/actualitat/agenda/tallers-infantils.html
CLASS:PUBLIC
END:VEVENT
END:VCALENDAR
