BEGIN:VCALENDAR
VERSION:2.0
CALSCALE:GREGORIAN
PRODID:-//Diputació de Barcelona//DibaCMS//EN
BEGIN:VEVENT
UID:1434
DTSTAMP:20260419T215235
DTSTART:20110130T170000
DTEND:20110130T000000
SUMMARY:Assemblea General de Socis - 30/01/2011
LOCATION:
METHOD:PUBLISH
X-WR-CALNAME:ullastrell@ullastrell.cat
X-WR-TIMEZONE:Europe/Madrid
DESCRIPTION:Assemblea General de Socis.
 
 Lloc: Altell del CasalOrganitzador: Colla de la Gent Gran
URI:https://www.ullastrell.cat/actualitat/agenda/assemblea-general-de-socis-30012011.html
CLASS:PUBLIC
END:VEVENT
END:VCALENDAR
