BEGIN:VCALENDAR
VERSION:2.0
CALSCALE:GREGORIAN
PRODID:-//Diputació de Barcelona//DibaCMS//EN
BEGIN:VEVENT
UID:1435
DTSTAMP:20260419T232954
DTSTART:20110130T190000
DTEND:20110130T000000
SUMMARY:XXII Mostra de Teatre: Les Vinyes del Priorat
LOCATION:
METHOD:PUBLISH
X-WR-CALNAME:ullastrell@ullastrell.cat
X-WR-TIMEZONE:Europe/Madrid
DESCRIPTION:Una obra escrita per Josep M. de Sagarra, ens la respresentaran el grup de Teatral del Casal de la Gent Gran Terrassa Centre.
Les Vinyes del Priorat és la darrera obra estrenada a Barcelona de Josep Maria de Segarra, és una comèdia dramàtica, en vers, d'època, d'ambient rural. El tema central de l'argument és l'amor.
Una taberna de Falset té una neboda molt vistosa i la vol casar, prescindint dels sentiments de la noia, que afavoreixen un jove festejador, i fa per manera d'oferir-la a un vell propietari i antic amant propi, el qual, justament, és el pare de l'enamorat. El conflicte entre pare i fill no arriba a esclatar del tot, car el vell, despistat pel refús de la fadrina, la calumnia de primer perquè el noi i la menspreï, però, després, se'n penedeix, rectifica i frustra definitivament els seus propòsits, i de la taverna, en deixar unida la jove parella feliç.Lloc: Sala Actes del CasalOrganitzador: GATU
URI:https://www.ullastrell.cat/actualitat/agenda/xxii-mostra-de-teatre-les-vinyes-del-priorat.html
CLASS:PUBLIC
END:VEVENT
END:VCALENDAR
