BEGIN:VCALENDAR
VERSION:2.0
CALSCALE:GREGORIAN
PRODID:-//Diputació de Barcelona//DibaCMS//EN
BEGIN:VEVENT
UID:1436
DTSTAMP:20260420T021413
DTSTART:20110212T000000
DTEND:20110212T000000
SUMMARY:Excursió a la neu
LOCATION:
METHOD:PUBLISH
X-WR-CALNAME:ullastrell@ullastrell.cat
X-WR-TIMEZONE:Europe/Madrid
DESCRIPTION:Excursió d'un dia a la neu.
 
 Lloc: Per determinarOrganitzador: Esplai 100bambes
URI:https://www.ullastrell.cat/actualitat/agenda/excursio-a-la-neu.html
CLASS:PUBLIC
END:VEVENT
END:VCALENDAR
