BEGIN:VCALENDAR
VERSION:2.0
CALSCALE:GREGORIAN
PRODID:-//Diputació de Barcelona//DibaCMS//EN
BEGIN:VEVENT
UID:1438
DTSTAMP:20260420T050710
DTSTART:20110206T093000
DTEND:20110206T000000
SUMMARY:Campionat d'Escacs: Ullastrell - Catalunya D
LOCATION:
METHOD:PUBLISH
X-WR-CALNAME:ullastrell@ullastrell.cat
X-WR-TIMEZONE:Europe/Madrid
DESCRIPTION:Partides del campionat d'escacs de Catalunya per equips 3ª Categoria Provincial 2010.
 
 Lloc: Altell del CasalOrganitzador: Club Escacs Ullastrell
URI:https://www.ullastrell.cat/actualitat/agenda/campionat-descacs-ullastrell-catalunya-d.html
CLASS:PUBLIC
END:VEVENT
END:VCALENDAR
