BEGIN:VCALENDAR
VERSION:2.0
CALSCALE:GREGORIAN
PRODID:-//Diputació de Barcelona//DibaCMS//EN
BEGIN:VEVENT
UID:1439
DTSTAMP:20260420T050820
DTSTART:20110213T093000
DTEND:20110213T000000
SUMMARY:Campionat d'Escacs: Ideal Clavé D - Ullastrell
LOCATION:
METHOD:PUBLISH
X-WR-CALNAME:ullastrell@ullastrell.cat
X-WR-TIMEZONE:Europe/Madrid
DESCRIPTION:Partides del campionat d'escacs de Catalunya per equips 3ª Categoria Provincial 2010.
 
 Lloc: Nou Barris (Barcelona)Organitzador: Club Escacs Ullastrell
URI:https://www.ullastrell.cat/actualitat/agenda/campionat-descacs-ideal-clave-d-ullastrell.html
CLASS:PUBLIC
END:VEVENT
END:VCALENDAR
