BEGIN:VCALENDAR
VERSION:2.0
CALSCALE:GREGORIAN
PRODID:-//Diputació de Barcelona//DibaCMS//EN
BEGIN:VEVENT
UID:1449
DTSTAMP:20260420T033443
DTSTART:20110409T200000
DTEND:20110409T000000
SUMMARY:Tu Fas Ullastrell 2011
LOCATION:
METHOD:PUBLISH
X-WR-CALNAME:ullastrell@ullastrell.cat
X-WR-TIMEZONE:Europe/Madrid
DESCRIPTION:IV Edició de "Tu fas Ullastrell", el grup d'ERC Ullastrell, fa un reconeixament a alguna entitat del poble destacada per la seva trajectoria, el seu treball, la manera de fer poble.
 Lloc: Sala d'Exposicions del CasalOrganitzador: ERC Ullastrell
URI:https://www.ullastrell.cat/actualitat/agenda/tu-fas-ullastrell-2011.html
CLASS:PUBLIC
END:VEVENT
END:VCALENDAR
