BEGIN:VCALENDAR
VERSION:2.0
CALSCALE:GREGORIAN
PRODID:-//Diputació de Barcelona//DibaCMS//EN
BEGIN:VEVENT
UID:1450
DTSTAMP:20260420T033709
DTSTART:20110416T090000
DTEND:20110416T140000
SUMMARY:Plenari de la consulta sobre la independència
LOCATION:
METHOD:PUBLISH
X-WR-CALNAME:ullastrell@ullastrell.cat
X-WR-TIMEZONE:Europe/Madrid
DESCRIPTION:Plenari de la Coordinadora Nacional de la Consulta sobre la independència.Després de la consulta a Barcelona que es celebra el dia 10 d'abril, els representants de tot Catalunya en debatran les conseqüències.Lloc: Sala Actes CasalOrganitzador: Ullastrell També decideix i Coordinadora Nacional
URI:https://www.ullastrell.cat/actualitat/agenda/plenari-de-la-consulta-sobre-la-independencia.html
CLASS:PUBLIC
END:VEVENT
END:VCALENDAR
