BEGIN:VCALENDAR
VERSION:2.0
CALSCALE:GREGORIAN
PRODID:-//Diputació de Barcelona//DibaCMS//EN
BEGIN:VEVENT
UID:1451
DTSTAMP:20260420T021056
DTSTART:20110419T000000
DTEND:20110420T000000
SUMMARY:Excursió a "Molinos"
LOCATION:
METHOD:PUBLISH
X-WR-CALNAME:ullastrell@ullastrell.cat
X-WR-TIMEZONE:Europe/Madrid
DESCRIPTION:Sortida de dos dies de la Colla de la Gent Gran.
 
 Lloc: TerolOrganitzador: Colla de la Gent Gran
URI:https://www.ullastrell.cat/actualitat/agenda/excursio-a-molinos.html
CLASS:PUBLIC
END:VEVENT
END:VCALENDAR
