BEGIN:VCALENDAR
VERSION:2.0
CALSCALE:GREGORIAN
PRODID:-//Diputació de Barcelona//DibaCMS//EN
BEGIN:VEVENT
UID:1452
DTSTAMP:20260420T045617
DTSTART:20110430T000000
DTEND:20110430T000000
SUMMARY:Excursió al Tibidabo
LOCATION:
METHOD:PUBLISH
X-WR-CALNAME:ullastrell@ullastrell.cat
X-WR-TIMEZONE:Europe/Madrid
DESCRIPTION:L'Esplai 100 Bambes es desplaçarà fins al Tibidabo amb tots els nens per passar una jornada de diversió amb les tradicionals atraccions com la Muntanya russa, els Miramiralls o els espectacles que faran gaudir a tots d'un bon dia.Lloc: Tibidabo (Barcelona)Organitzador: Esplai 100 Bambes
URI:https://www.ullastrell.cat/actualitat/agenda/excursio-al-tibidabo.html
CLASS:PUBLIC
END:VEVENT
END:VCALENDAR
