BEGIN:VCALENDAR
VERSION:2.0
CALSCALE:GREGORIAN
PRODID:-//Diputació de Barcelona//DibaCMS//EN
BEGIN:VEVENT
UID:1453
DTSTAMP:20260420T033424
DTSTART:20110514T000000
DTEND:20110515T000000
SUMMARY:Colònies amb famílies
LOCATION:
METHOD:PUBLISH
X-WR-CALNAME:ullastrell@ullastrell.cat
X-WR-TIMEZONE:Europe/Madrid
DESCRIPTION:Colonies familiars de l'esplai 100bambes, un cap de setmana per gaudir en família i compartir tots junts.
 Lloc: Organitzador: Esplai 100Bambes
URI:https://www.ullastrell.cat/actualitat/agenda/colonies-amb-families.html
CLASS:PUBLIC
END:VEVENT
END:VCALENDAR
