BEGIN:VCALENDAR
VERSION:2.0
CALSCALE:GREGORIAN
PRODID:-//Diputació de Barcelona//DibaCMS//EN
BEGIN:VEVENT
UID:1457
DTSTAMP:20260420T063344
DTSTART:20110713T200000
DTEND:20110713T000000
SUMMARY:Taller de cuina d'estiu
LOCATION:
METHOD:PUBLISH
X-WR-CALNAME:ullastrell@ullastrell.cat
X-WR-TIMEZONE:Europe/Madrid
DESCRIPTION:El taller de cuina d'estiu serà a càrrec de Tessa Marsal. Podeu fer les inscripcions a la Maria Vilajosana al telèfon 627 45 27 28.



15 places, les places són limitades!
Preu: 22€.Lloc: Cuina de l'Escola SerralavellaOrganitzador: Cuina Salut
URI:https://www.ullastrell.cat/actualitat/agenda/taller-de-cuina-destiu.html
CLASS:PUBLIC
END:VEVENT
END:VCALENDAR
