BEGIN:VCALENDAR
VERSION:2.0
CALSCALE:GREGORIAN
PRODID:-//Diputació de Barcelona//DibaCMS//EN
BEGIN:VEVENT
UID:1459
DTSTAMP:20260420T064419
DTSTART:20110710T090000
DTEND:20110710T000000
SUMMARY:Matinal a la cara nord del Montcau
LOCATION:
METHOD:PUBLISH
X-WR-CALNAME:ullastrell@ullastrell.cat
X-WR-TIMEZONE:Europe/Madrid
DESCRIPTION:Inauguració 'oficial' de la Via d'escalada 'Robert Colilles' .Clavarem la placa commemorativa.
Sortirem a les 9h. del pàrquing de les escoles en destí cap al Coll d'Estenalles.
Després d'una caminada de 3/4 d'hora arribarem a peu de via (entre el Montcau i les roques de LaCoca). Qui vulgui escalar, cal avisar-nos i venir equipat.
* Cal portar esmorzar i beguda.Lloc: Coll d'EstenallesOrganitzador: Grup de Muntanya
URI:https://www.ullastrell.cat/actualitat/agenda/matinal-a-la-cara-nord-del-montcau.html
CLASS:PUBLIC
END:VEVENT
END:VCALENDAR
